BEGIN:VCALENDAR
VERSION:2.0
PRODID:-//Tukios.com/
BEGIN:VEVENT
UID:756d792f-5fe9-4845-bb45-1b83e7a62c4f@www.treshewell.com
DTSTAMP:20260422T214133Z
DTSTART:20260516T153000Z
DTEND:20260516T163000Z
SUMMARY:Memorial Service
DESCRIPTION:A reception will follow.
URL:https://www.treshewell.com/obituaries/barbara-allan
LOCATION: 201 East Nolte Street  Seguin TX 78155
GEO:29.567002;-97.963352
END:VEVENT
END:VCALENDAR