BEGIN:VCALENDAR
VERSION:2.0
PRODID:-//Tukios.com/
BEGIN:VEVENT
UID:6ec3adc0-2f80-46c6-928b-0be4b562ca64@www.treshewell.com
DTSTAMP:20260421T211657Z
DTSTART:20260427T160000Z
DTEND:20260427T170000Z
SUMMARY:Funeral Service
DESCRIPTION:
URL:https://www.treshewell.com/obituaries/judy-schleier
LOCATION: 2154 Texas 337 Loop  New Braunfels TX 78130
GEO:29.7271776;-98.1418147
END:VEVENT
END:VCALENDAR