BEGIN:VCALENDAR
VERSION:2.0
PRODID:-//Tukios.com/
BEGIN:VEVENT
UID:7da47aaa-3e42-4105-af24-e3dbc006817e@www.treshewell.com
DTSTAMP:20260421T211831Z
DTSTART:20260427T180000Z
DTEND:20260427T190000Z
SUMMARY:Visitation
DESCRIPTION:
URL:https://www.treshewell.com/obituaries/judy-schleier
LOCATION:Lake Breeze Ski Lodge 225 Ski Lodge Road  McQueeney TX 78123
GEO:29.5970127;-98.044839
END:VEVENT
END:VCALENDAR