BEGIN:VCALENDAR
VERSION:2.0
PRODID:-//Tukios.com/
BEGIN:VEVENT
UID:35b7c9fc-779f-457b-a3af-99a24d9e5fbd@www.treshewell.com
DTSTAMP:20260420T191745Z
DTSTART:20260423T170000Z
DTEND:20260423T180000Z
SUMMARY:Visitation
DESCRIPTION:
URL:https://www.treshewell.com/obituaries/katherine-vickrey
LOCATION: 165 Tor Drive  Seguin TX 78155
GEO:29.5454131;-97.9574572
END:VEVENT
END:VCALENDAR