BEGIN:VCALENDAR
VERSION:2.0
PRODID:-//Tukios.com/
BEGIN:VEVENT
UID:4a5e4d8a-0995-43b2-aefd-e7c2d58f2a58@www.treshewell.com
DTSTAMP:20260420T191907Z
DTSTART:20260423T180000Z
DTEND:20260423T190000Z
SUMMARY:Funeral Service
DESCRIPTION:
URL:https://www.treshewell.com/obituaries/katherine-vickrey
LOCATION: 165 Tor Drive  Seguin TX 78155
GEO:29.5454131;-97.9574572
END:VEVENT
END:VCALENDAR