BEGIN:VCALENDAR
VERSION:2.0
PRODID:-//Tukios.com/
BEGIN:VEVENT
UID:91aa1ff5-ccb3-449d-a7e8-96c3f85f9d3a@www.treshewell.com
DTSTAMP:20260422T024346Z
DTSTART:20260428T150000Z
DTEND:20260428T160000Z
SUMMARY:Visitation
DESCRIPTION:
URL:https://www.treshewell.com/obituaries/michelle-menchaca
LOCATION: 510 S Camp St  Seguin TX 78155
GEO:29.5657231;-97.9657189
END:VEVENT
END:VCALENDAR