BEGIN:VCALENDAR
VERSION:2.0
PRODID:-//Tukios.com/
BEGIN:VEVENT
UID:00b281ff-f3a1-4326-b44a-ad00b22ff9d2@www.treshewell.com
DTSTAMP:20260422T024341Z
DTSTART:20260428T160000Z
DTEND:20260428T170000Z
SUMMARY:Mass
DESCRIPTION:
URL:https://www.treshewell.com/obituaries/michelle-menchaca
LOCATION: 510 S Camp St  Seguin TX 78155
GEO:29.5657231;-97.9657189
END:VEVENT
END:VCALENDAR