BEGIN:VCALENDAR
VERSION:2.0
PRODID:-//Tukios.com/
BEGIN:VEVENT
UID:df1b2a1c-2107-4b5a-bef7-04e0f5985721@www.treshewell.com
DTSTAMP:20260422T023946Z
DTSTART:20260427T230000Z
DTEND:20260427T233000Z
SUMMARY:Rosary
DESCRIPTION:
URL:https://www.treshewell.com/obituaries/michelle-menchaca
LOCATION: 165 Tor Drive  Seguin TX 78155
GEO:29.5454131;-97.9574572
END:VEVENT
END:VCALENDAR