BEGIN:VCALENDAR
VERSION:2.0
PRODID:-//Tukios.com/
BEGIN:VEVENT
UID:923376ca-0e45-4575-818d-3cd49ba5ad6f@www.treshewell.com
DTSTAMP:20260422T024059Z
DTSTART:20260427T220000Z
DTEND:20260428T000000Z
SUMMARY:Visitation
DESCRIPTION:
URL:https://www.treshewell.com/obituaries/michelle-menchaca
LOCATION: 165 Tor Drive  Seguin TX 78155
GEO:29.5454131;-97.9574572
END:VEVENT
END:VCALENDAR